BEGIN:VCALENDAR
VERSION:2.0
PRODID:-//SHEA/Corp//SHEA v1.0//EN
METHOD:PUBLISH
BEGIN:VTIMEZONE
TZID:America/Phoenix
BEGIN:STANDARD
TZOFFSETFROM:-0700
TZOFFSETTO:-0700
TZNAME:MST
DTSTART:19701101T020000
RRULE:FREQ=YEARLY;BYMONTH=11;BYDAY=1SU
END:STANDARD
END:VTIMEZONE
BEGIN:VEVENT
UID:91bc7b04-e8f6-4f4a-8ff7-9ae18fbd15d0
DTSTAMP:20260420T115713Z
DTSTART;TZID=America/Phoenix:20260401T080000
DTEND;TZID=America/Phoenix:20260430T170000
LOCATION:1035 E Combs Rd , Queen Creek, AZ, 85140
DESCRIPTION: Get Social at Encanterra®\n\nWhere: 1035 E Combs Rd , Queen Creek, AZ, 85140\n\nDescription: Monthly Events at Encanterra®! \n\nLink: https://www.sheahomes.com/News-Events/Events/ALC-TEN-Events
SUMMARY:Get Social at Encanterra®
PRIORITY:3
BEGIN:VALARM
TRIGGER:P0DT0H15M
ACTION:DISPLAY
DESCRIPTION:Reminder
END:VALARM
END:VEVENT
END:VCALENDAR
