BEGIN:VCALENDAR
VERSION:2.0
PRODID:-//SHEA/Corp//SHEA v1.0//EN
METHOD:PUBLISH
BEGIN:VTIMEZONE
TZID:America/New_York
BEGIN:STANDARD
TZOFFSETFROM:-0400
TZOFFSETTO:-0500
TZNAME:EST
DTSTART:19701101T020000
RRULE:FREQ=YEARLY;BYMONTH=11;BYDAY=1SU
END:STANDARD
BEGIN:DAYLIGHT
TZOFFSETFROM:-0500
TZOFFSETTO:-0400
TZNAME:EDT
DTSTART:19700308T020000
RRULE:FREQ=YEARLY;BYMONTH=3;BYDAY=2SU
END:DAYLIGHT
END:VTIMEZONE
BEGIN:VEVENT
UID:16f433e7-fb14-4b2e-adf4-dc9a5076c633
DTSTAMP:20260420T053625Z
DTSTART;TZID=America/New_York:20260418T123000
DTEND;TZID=America/New_York:20260502T163000
LOCATION:10716 Backwoods Trl, Huntersville, North Carolina, 28078
DESCRIPTION: Amara Run Grand Opening\n\nWhere: 10716 Backwoods Trl, Huntersville, North Carolina, 28078\n\nDescription: You're invited to join us for the Grand Opening of our newest Huntersville community, Amara Run!Here, you will get an exclusive first look at our model home. Each event provides an opportunity for you to learn more about our floor plans, quick move-in homes, and to speak with a Community Representative to learn more about how a Shea Home can meet your needs!\n\nLink: https://www.sheahomes.com/News-Events/Events/CAR-Amara-Run-Grand-Opening
SUMMARY:Amara Run Grand Opening
PRIORITY:3
BEGIN:VALARM
TRIGGER:P0DT0H15M
ACTION:DISPLAY
DESCRIPTION:Reminder
END:VALARM
END:VEVENT
END:VCALENDAR
