BEGIN:VCALENDAR
VERSION:2.0
PRODID:-//SHEA/Corp//SHEA v1.0//EN
METHOD:PUBLISH
BEGIN:VTIMEZONE
TZID:America/Los_Angeles
BEGIN:STANDARD
TZOFFSETFROM:-0700
TZOFFSETTO:-0800
TZNAME:PST
DTSTART:19701101T020000
RRULE:FREQ=YEARLY;BYMONTH=11;BYDAY=1SU
END:STANDARD
BEGIN:DAYLIGHT
TZOFFSETFROM:-0800
TZOFFSETTO:-0700
TZNAME:PDT
DTSTART:19700308T020000
RRULE:FREQ=YEARLY;BYMONTH=3;BYDAY=2SU
END:DAYLIGHT
END:VTIMEZONE
BEGIN:VEVENT
UID:b15d4ee7-244d-442f-8046-7f8cc1c1ee43
DTSTAMP:20260420T120828Z
DTSTART;TZID=America/Los_Angeles:20251004T130000
DTEND;TZID=America/Los_Angeles:20251004T143000
LOCATION:588 Propulsion Rd, San Marcos, CA, 92078
DESCRIPTION: San Diego Homebuying Process Made Simple\n\nWhere: 588 Propulsion Rd, San Marcos, CA, 92078\n\nDescription: Join Us for the Second Event in the San Diego Homebuyer Educational SeriesBuying a home can feel overwhelming — but it doesn’t have to be. Join Shea Homes San Diego for our Homebuyer Educational Series, where you'll get the guidance and confidence you need to take the next step toward homeownership.Attend one, two, or all three events — and earn up to $7,500 in Design Studio Credits* when you purchase a new Shea home!  \n\nLink: https://www.sheahomes.com/News-Events/Events/SD-Homebuyer-Education-Session-2
SUMMARY:San Diego Homebuying Process Made Simple
PRIORITY:3
BEGIN:VALARM
TRIGGER:P0DT0H15M
ACTION:DISPLAY
DESCRIPTION:Reminder
END:VALARM
END:VEVENT
END:VCALENDAR
