BEGIN:VCALENDAR
VERSION:2.0
PRODID:-//SHEA/Corp//SHEA v1.0//EN
METHOD:PUBLISH
BEGIN:VTIMEZONE
TZID:America/Los_Angeles
BEGIN:STANDARD
TZOFFSETFROM:-0700
TZOFFSETTO:-0800
TZNAME:PST
DTSTART:19701101T020000
RRULE:FREQ=YEARLY;BYMONTH=11;BYDAY=1SU
END:STANDARD
BEGIN:DAYLIGHT
TZOFFSETFROM:-0800
TZOFFSETTO:-0700
TZNAME:PDT
DTSTART:19700308T020000
RRULE:FREQ=YEARLY;BYMONTH=3;BYDAY=2SU
END:DAYLIGHT
END:VTIMEZONE
BEGIN:VEVENT
UID:ebae2c2d-f65f-4acf-bd89-e06a45c5590c
DTSTAMP:20260422T064053Z
DTSTART;TZID=America/Los_Angeles:20260613T100040
DTEND;TZID=America/Los_Angeles:20260613T120055
LOCATION:1000 H Street, Chula Vista, Ca, 91910
DESCRIPTION: Homebuying 101\n\nWhere: 1000 H Street, Chula Vista, Ca, 91910\n\nDescription: a {     text-decoration: none;     color: #464feb; } tr th, tr td {     border: 1px solid #e6e6e6; } tr th {     background-color: #f5f5f5; } a {     text-decoration: none;     color: #464feb; } tr th, tr td {     border: 1px solid #e6e6e6; } tr th {     background-color: #f5f5f5; } Homebuying 101, part of the Shea Homes® Homebuying & Design Series, is an in‑person educational event created to help you better understand your homebuying options. Designed to provide clear, practical guidance, this session supports you with the information and resources needed to move forward with confidence.\n\nLink: https://www.sheahomes.com/News-Events/Events/SD-Homebuying101-Gaylord
SUMMARY:Homebuying 101
PRIORITY:3
BEGIN:VALARM
TRIGGER:P0DT0H15M
ACTION:DISPLAY
DESCRIPTION:Reminder
END:VALARM
END:VEVENT
END:VCALENDAR
